BEGIN:VCALENDAR
VERSION:2.0
PRODID:-//Barnacle Restaurant &amp; Bar - ECPv6.15.12.2//NONSGML v1.0//EN
CALSCALE:GREGORIAN
METHOD:PUBLISH
X-WR-CALNAME:Barnacle Restaurant &amp; Bar
X-ORIGINAL-URL:https://barnacleliverpool.co.uk
X-WR-CALDESC:Events for Barnacle Restaurant &amp; Bar
REFRESH-INTERVAL;VALUE=DURATION:PT1H
X-Robots-Tag:noindex
X-PUBLISHED-TTL:PT1H
BEGIN:VTIMEZONE
TZID:UTC
BEGIN:STANDARD
TZOFFSETFROM:+0000
TZOFFSETTO:+0000
TZNAME:UTC
DTSTART:20240101T000000
END:STANDARD
END:VTIMEZONE
BEGIN:VEVENT
DTSTART;TZID=UTC:20251231T163000
DTEND;TZID=UTC:20260101T020000
DTSTAMP:20260424T171132
CREATED:20251217T154505Z
LAST-MODIFIED:20260105T133500Z
UID:3093-1767198600-1767232800@barnacleliverpool.co.uk
SUMMARY:New Year's Eve at Barnacle
DESCRIPTION:
URL:https://barnacleliverpool.co.uk/event/new-years-eve-at-barnacle/
ATTACH;FMTTYPE=image/jpeg:https://barnacleliverpool.co.uk/wp-content/uploads/2025/10/Barnacle-Launch-Weekend-15-scaled.jpg
END:VEVENT
END:VCALENDAR